Package: slalom Version: 1.31.0 Command: chmod a+r slalom -R && F:\biocbuild\bbs-3.22-bioc\R\bin\R.exe CMD build --keep-empty-dirs --no-resave-data slalom StartedAt: 2025-08-14 23:22:02 -0400 (Thu, 14 Aug 2025) EndedAt: 2025-08-14 23:23:55 -0400 (Thu, 14 Aug 2025) EllapsedTime: 112.8 seconds RetCode: 0 Status: OK PackageFile: slalom_1.31.0.tar.gz PackageFileSize: 17.42 MiB