Package: skewr Version: 1.41.0 Command: /Library/Frameworks/R.framework/Resources/bin/R CMD build --keep-empty-dirs --no-resave-data skewr StartedAt: 2025-05-02 18:27:51 -0400 (Fri, 02 May 2025) EndedAt: 2025-05-02 18:30:30 -0400 (Fri, 02 May 2025) EllapsedTime: 159.7 seconds RetCode: 0 Status: OK PackageFile: skewr_1.41.0.tar.gz PackageFileSize: 767.4 KiB