Package: skewr Version: 1.41.0 Command: rm -rf skewr.buildbin-libdir && mkdir skewr.buildbin-libdir && /Users/biocbuild/BBS/utils/build-universal.sh skewr_1.41.0.tar.gz /Library/Frameworks/R.framework/Resources/bin/R skewr.buildbin-libdir StartedAt: 2025-05-03 01:07:20 -0400 (Sat, 03 May 2025) EndedAt: 2025-05-03 01:08:33 -0400 (Sat, 03 May 2025) EllapsedTime: 72.7 seconds RetCode: 0 Status: OK PackageFile: skewr_1.41.0.tgz PackageFileSize: 759.7 KiB