Package: sketchR Version: 1.5.0 Command: /Library/Frameworks/R.framework/Resources/bin/R CMD check --install=check:sketchR.install-out.txt --library=/Library/Frameworks/R.framework/Resources/library --no-vignettes --timings sketchR_1.5.0.tar.gz StartedAt: 2025-05-08 22:03:52 -0400 (Thu, 08 May 2025) EndedAt: 2025-05-08 22:05:07 -0400 (Thu, 08 May 2025) EllapsedTime: 74.9 seconds RetCode: 0 Status: OK CheckDir: sketchR.Rcheck Warnings: 0