Package: sketchR Version: 1.5.0 Command: /Library/Frameworks/R.framework/Resources/bin/R CMD build --keep-empty-dirs --no-resave-data sketchR StartedAt: 2025-05-08 17:45:05 -0400 (Thu, 08 May 2025) EndedAt: 2025-05-08 17:46:06 -0400 (Thu, 08 May 2025) EllapsedTime: 61.8 seconds RetCode: 0 Status: OK PackageFile: sketchR_1.5.0.tar.gz PackageFileSize: 1.181 MiB