Package: sizepower Version: 1.79.0 Command: /home/biocbuild/R/R/bin/R CMD build --keep-empty-dirs --no-resave-data sizepower StartedAt: 2025-10-03 03:17:55 -0000 (Fri, 03 Oct 2025) EndedAt: 2025-10-03 03:18:00 -0000 (Fri, 03 Oct 2025) EllapsedTime: 5.0 seconds RetCode: 0 Status: OK PackageFile: sizepower_1.79.0.tar.gz PackageFileSize: 286 KiB