Package: sizepower Version: 1.79.0 Command: chmod a+r sizepower -R && F:\biocbuild\bbs-3.22-bioc\R\bin\R.exe CMD build --keep-empty-dirs --no-resave-data sizepower StartedAt: 2025-08-14 23:21:49 -0400 (Thu, 14 Aug 2025) EndedAt: 2025-08-14 23:21:59 -0400 (Thu, 14 Aug 2025) EllapsedTime: 10.1 seconds RetCode: 0 Status: OK PackageFile: sizepower_1.79.0.tar.gz PackageFileSize: 174.7 KiB