Package: sizepower Version: 1.79.0 Command: /home/biocbuild/bbs-3.22-bioc/R/bin/R CMD INSTALL sizepower StartedAt: 2025-10-23 15:02:32 -0400 (Thu, 23 Oct 2025) EndedAt: 2025-10-23 15:02:36 -0400 (Thu, 23 Oct 2025) EllapsedTime: 4.8 seconds RetCode: 0 Status: OK