Package: sizepower Version: 1.79.0 Command: /home/biocbuild/bbs-3.22-bioc/R/bin/R CMD build --keep-empty-dirs --no-resave-data --md5 sizepower StartedAt: 2025-10-23 20:12:05 -0400 (Thu, 23 Oct 2025) EndedAt: 2025-10-23 20:12:10 -0400 (Thu, 23 Oct 2025) EllapsedTime: 5.0 seconds RetCode: 0 Status: OK PackageFile: sizepower_1.79.0.tar.gz PackageFileSize: 296.5 KiB