Package: sizepower Version: 1.79.0 Command: rm -rf sizepower.buildbin-libdir && mkdir sizepower.buildbin-libdir && /Users/biocbuild/BBS/utils/build-universal.sh sizepower_1.79.0.tar.gz /Library/Frameworks/R.framework/Resources/bin/R sizepower.buildbin-libdir StartedAt: 2025-10-23 01:57:33 -0400 (Thu, 23 Oct 2025) EndedAt: 2025-10-23 01:57:40 -0400 (Thu, 23 Oct 2025) EllapsedTime: 7.0 seconds RetCode: 0 Status: OK PackageFile: sizepower_1.79.0.tgz PackageFileSize: 314 KiB