Package: sitePath Version: 1.25.0 Command: /Library/Frameworks/R.framework/Resources/bin/R CMD build --keep-empty-dirs --no-resave-data sitePath StartedAt: 2025-05-07 18:28:51 -0400 (Wed, 07 May 2025) EndedAt: 2025-05-07 18:29:52 -0400 (Wed, 07 May 2025) EllapsedTime: 61.8 seconds RetCode: 0 Status: OK PackageFile: sitePath_1.25.0.tar.gz PackageFileSize: 1.241 MiB