Package: sitePath Version: 1.25.0 Command: rm -rf sitePath.buildbin-libdir && mkdir sitePath.buildbin-libdir && /Users/biocbuild/BBS/utils/build-universal.sh sitePath_1.25.0.tar.gz /Library/Frameworks/R.framework/Resources/bin/R sitePath.buildbin-libdir StartedAt: 2025-05-08 01:07:39 -0400 (Thu, 08 May 2025) EndedAt: 2025-05-08 01:08:23 -0400 (Thu, 08 May 2025) EllapsedTime: 44.0 seconds RetCode: 0 Status: OK PackageFile: sitePath_1.25.0.tgz PackageFileSize: 1.495 MiB