Package: sitadela Version: 1.15.0 Command: E:\biocbuild\bbs-3.21-bioc\R\bin\R.exe CMD INSTALL sitadela StartedAt: 2025-02-03 16:40:13 -0500 (Mon, 03 Feb 2025) EndedAt: 2025-02-03 16:41:13 -0500 (Mon, 03 Feb 2025) EllapsedTime: 59.6 seconds RetCode: 0 Status: OK