Package: sitadela Version: 1.15.0 Command: chmod a+r sitadela -R && E:\biocbuild\bbs-3.21-bioc\R\bin\R.exe CMD build --keep-empty-dirs --no-resave-data sitadela StartedAt: 2025-02-03 21:56:10 -0500 (Mon, 03 Feb 2025) EndedAt: 2025-02-03 21:59:06 -0500 (Mon, 03 Feb 2025) EllapsedTime: 176.2 seconds RetCode: 0 Status: OK PackageFile: sitadela_1.15.0.tar.gz PackageFileSize: 485.7 KiB