Package: sitadela Version: 1.15.0 Command: rm -rf sitadela.buildbin-libdir && mkdir sitadela.buildbin-libdir && E:\biocbuild\bbs-3.21-bioc\R\bin\R.exe CMD INSTALL --build --library=sitadela.buildbin-libdir sitadela_1.15.0.tar.gz StartedAt: 2025-02-04 08:57:50 -0500 (Tue, 04 Feb 2025) EndedAt: 2025-02-04 08:58:44 -0500 (Tue, 04 Feb 2025) EllapsedTime: 54.0 seconds RetCode: 0 Status: OK PackageFile: sitadela_1.15.0.zip PackageFileSize: 719.7 KiB