Package: sitadela Version: 1.15.0 Command: /Library/Frameworks/R.framework/Resources/bin/R CMD check --install=check:sitadela.install-out.txt --library=/Library/Frameworks/R.framework/Resources/library --no-vignettes --timings sitadela_1.15.0.tar.gz StartedAt: 2025-02-03 23:24:23 -0500 (Mon, 03 Feb 2025) EndedAt: 2025-02-03 23:30:41 -0500 (Mon, 03 Feb 2025) EllapsedTime: 378.8 seconds RetCode: 0 Status: OK CheckDir: sitadela.Rcheck Warnings: 0