Package: sitadela Version: 1.15.0 Command: /Library/Frameworks/R.framework/Resources/bin/R CMD build --keep-empty-dirs --no-resave-data sitadela StartedAt: 2025-02-03 18:26:01 -0500 (Mon, 03 Feb 2025) EndedAt: 2025-02-03 18:28:45 -0500 (Mon, 03 Feb 2025) EllapsedTime: 164.5 seconds RetCode: 0 Status: OK PackageFile: sitadela_1.15.0.tar.gz PackageFileSize: 485 KiB