Package: sitadela Version: 1.15.0 Command: /home/biocbuild/R/R/bin/R CMD INSTALL sitadela StartedAt: 2025-01-29 20:03:09 -0000 (Wed, 29 Jan 2025) EndedAt: 2025-01-29 20:04:03 -0000 (Wed, 29 Jan 2025) EllapsedTime: 54.4 seconds RetCode: 0 Status: OK