Package: sitadela Version: 1.15.0 Command: /home/biocbuild/R/R/bin/R CMD build --keep-empty-dirs --no-resave-data sitadela StartedAt: 2025-01-29 02:24:55 -0000 (Wed, 29 Jan 2025) EndedAt: 2025-01-29 02:28:18 -0000 (Wed, 29 Jan 2025) EllapsedTime: 203.2 seconds RetCode: 0 Status: OK PackageFile: sitadela_1.15.0.tar.gz PackageFileSize: 550.5 KiB