Package: singscore Version: 1.31.0 Command: /home/biocbuild/bbs-3.23-bioc/R/bin/R CMD build --keep-empty-dirs --no-resave-data singscore StartedAt: 2025-11-14 20:07:46 -0500 (Fri, 14 Nov 2025) EndedAt: 2025-11-14 20:08:49 -0500 (Fri, 14 Nov 2025) EllapsedTime: 63.1 seconds RetCode: 0 Status: OK PackageFile: singscore_1.31.0.tar.gz PackageFileSize: 2.982 MiB