Package: singscore Version: 1.31.0 Command: /Library/Frameworks/R.framework/Resources/bin/R CMD INSTALL singscore StartedAt: 2025-11-25 15:43:10 -0500 (Tue, 25 Nov 2025) EndedAt: 2025-11-25 15:43:54 -0500 (Tue, 25 Nov 2025) EllapsedTime: 44.0 seconds RetCode: 0 Status: OK