Package: singscore Version: 1.31.0 Command: /Library/Frameworks/R.framework/Resources/bin/R CMD build --keep-empty-dirs --no-resave-data singscore StartedAt: 2025-11-25 18:56:29 -0500 (Tue, 25 Nov 2025) EndedAt: 2025-11-25 18:57:41 -0500 (Tue, 25 Nov 2025) EllapsedTime: 71.9 seconds RetCode: 0 Status: OK PackageFile: singscore_1.31.0.tar.gz PackageFileSize: 2.949 MiB