Package: singscore Version: 1.31.0 Command: rm -rf singscore.buildbin-libdir && mkdir singscore.buildbin-libdir && /Users/biocbuild/BBS/utils/build-universal.sh singscore_1.31.0.tar.gz /Library/Frameworks/R.framework/Resources/bin/R singscore.buildbin-libdir StartedAt: 2025-11-26 02:10:32 -0500 (Wed, 26 Nov 2025) EndedAt: 2025-11-26 02:11:19 -0500 (Wed, 26 Nov 2025) EllapsedTime: 47.1 seconds RetCode: 0 Status: OK PackageFile: singscore_1.31.0.tgz PackageFileSize: 3.443 MiB