Package: singleCellTK Version: 2.19.2 Command: /home/biocbuild/bbs-3.22-bioc/R/bin/R CMD INSTALL singleCellTK StartedAt: 2025-09-29 16:10:35 -0400 (Mon, 29 Sep 2025) EndedAt: 2025-09-29 16:11:32 -0400 (Mon, 29 Sep 2025) EllapsedTime: 56.2 seconds RetCode: 0 Status: OK