Package: singleCellTK Version: 2.19.2 Command: /home/biocbuild/bbs-3.22-bioc/R/bin/R CMD build --keep-empty-dirs --no-resave-data --md5 singleCellTK StartedAt: 2025-09-29 20:24:31 -0400 (Mon, 29 Sep 2025) EndedAt: 2025-09-29 20:25:18 -0400 (Mon, 29 Sep 2025) EllapsedTime: 47.1 seconds RetCode: 0 Status: OK PackageFile: singleCellTK_2.19.2.tar.gz PackageFileSize: 3.249 MiB