Package: singleCellTK Version: 2.19.2 Command: rm -rf singleCellTK.buildbin-libdir && mkdir singleCellTK.buildbin-libdir && /Users/biocbuild/BBS/utils/build-universal.sh singleCellTK_2.19.2.tar.gz /Library/Frameworks/R.framework/Resources/bin/R singleCellTK.buildbin-libdir StartedAt: 2025-10-02 02:15:44 -0400 (Thu, 02 Oct 2025) EndedAt: 2025-10-02 02:16:51 -0400 (Thu, 02 Oct 2025) EllapsedTime: 67.1 seconds RetCode: 0 Status: OK PackageFile: singleCellTK_2.19.2.tgz PackageFileSize: 4.601 MiB