Package: simplifyEnrichment Version: 2.1.0 Command: /home/biocbuild/R/R/bin/R CMD check --install=check:simplifyEnrichment.install-out.txt --library=/home/biocbuild/R/R/site-library --no-vignettes --timings simplifyEnrichment_2.1.0.tar.gz StartedAt: 2025-01-28 15:22:45 -0000 (Tue, 28 Jan 2025) EndedAt: 2025-01-28 15:26:01 -0000 (Tue, 28 Jan 2025) EllapsedTime: 195.2 seconds RetCode: 0 Status: WARNINGS CheckDir: simplifyEnrichment.Rcheck Warnings: 5