Package: simpleSeg Version: 1.11.1 Command: rm -rf simpleSeg.buildbin-libdir && mkdir simpleSeg.buildbin-libdir && F:\biocbuild\bbs-3.22-bioc\R\bin\R.exe CMD INSTALL --build --library=simpleSeg.buildbin-libdir simpleSeg_1.11.1.tar.gz StartedAt: 2025-08-15 11:20:36 -0400 (Fri, 15 Aug 2025) EndedAt: 2025-08-15 11:21:35 -0400 (Fri, 15 Aug 2025) EllapsedTime: 59.2 seconds RetCode: 0 Status: OK PackageFile: simpleSeg_1.11.1.zip PackageFileSize: 4.406 MiB