Package: simpleSeg Version: 1.9.0 Command: chmod a+r simpleSeg -R && E:\biocbuild\bbs-3.21-bioc\R\bin\R.exe CMD build --keep-empty-dirs --no-resave-data simpleSeg StartedAt: 2025-02-03 21:54:21 -0500 (Mon, 03 Feb 2025) EndedAt: 2025-02-03 21:57:46 -0500 (Mon, 03 Feb 2025) EllapsedTime: 205.5 seconds RetCode: 0 Status: OK PackageFile: simpleSeg_1.9.0.tar.gz PackageFileSize: 4.463 MiB