Package: simona Version: 1.7.1 Command: chmod a+r simona -R && F:\biocbuild\bbs-3.22-bioc\R\bin\R.exe CMD build --keep-empty-dirs --no-resave-data simona StartedAt: 2025-08-14 23:18:57 -0400 (Thu, 14 Aug 2025) EndedAt: 2025-08-14 23:21:05 -0400 (Thu, 14 Aug 2025) EllapsedTime: 128.1 seconds RetCode: 0 Status: OK PackageFile: simona_1.7.1.tar.gz PackageFileSize: 945.4 KiB