Package: simona Version: 1.7.0 Maintainer: Zuguang Gu MaintainerEmail: z.gu at dkfz.de git_url: https://git.bioconductor.org/packages/simona git_branch: devel git_last_commit: a653ffe git_last_commit_date: 2025-04-15 13:21:44 -0400 (Tue, 15 Apr 2025)