Package: similaRpeak Version: 1.41.0 Command: /home/biocbuild/bbs-3.22-bioc/R/bin/R CMD INSTALL similaRpeak StartedAt: 2025-10-03 15:01:28 -0400 (Fri, 03 Oct 2025) EndedAt: 2025-10-03 15:01:36 -0400 (Fri, 03 Oct 2025) EllapsedTime: 7.8 seconds RetCode: 0 Status: OK