Package: similaRpeak Version: 1.41.0 Command: /home/biocbuild/bbs-3.22-bioc/R/bin/R CMD build --keep-empty-dirs --no-resave-data --md5 similaRpeak StartedAt: 2025-10-02 20:05:38 -0400 (Thu, 02 Oct 2025) EndedAt: 2025-10-02 20:06:03 -0400 (Thu, 02 Oct 2025) EllapsedTime: 25.0 seconds RetCode: 0 Status: OK PackageFile: similaRpeak_1.41.0.tar.gz PackageFileSize: 2.076 MiB