Package: simPIC Version: 1.5.3 Command: /home/biocbuild/R/R/bin/R CMD INSTALL simPIC StartedAt: 2025-10-23 20:45:26 -0000 (Thu, 23 Oct 2025) EndedAt: 2025-10-23 20:45:57 -0000 (Thu, 23 Oct 2025) EllapsedTime: 30.7 seconds RetCode: 0 Status: OK