Package: simPIC Version: 1.5.3 Command: /home/biocbuild/R/R/bin/R CMD build --keep-empty-dirs --no-resave-data simPIC StartedAt: 2025-10-21 03:12:03 -0000 (Tue, 21 Oct 2025) EndedAt: 2025-10-21 03:14:48 -0000 (Tue, 21 Oct 2025) EllapsedTime: 165.1 seconds RetCode: 0 Status: OK PackageFile: simPIC_1.5.3.tar.gz PackageFileSize: 5.047 MiB