Package: simPIC Version: 1.3.0 Command: /home/biocbuild/bbs-3.21-bioc/R/bin/R CMD build --keep-empty-dirs --no-resave-data simPIC StartedAt: 2025-02-16 19:11:54 -0500 (Sun, 16 Feb 2025) EndedAt: 2025-02-16 19:12:44 -0500 (Sun, 16 Feb 2025) EllapsedTime: 50.0 seconds RetCode: 0 Status: OK PackageFile: simPIC_1.3.0.tar.gz PackageFileSize: 1.146 MiB