Package: simPIC Version: 1.3.0 Command: /home/biocbuild/R/R/bin/R CMD check --install=check:simPIC.install-out.txt --library=/home/biocbuild/R/R/site-library --no-vignettes --timings simPIC_1.3.0.tar.gz StartedAt: 2025-01-28 15:22:28 -0000 (Tue, 28 Jan 2025) EndedAt: 2025-01-28 15:26:36 -0000 (Tue, 28 Jan 2025) EllapsedTime: 247.3 seconds RetCode: 0 Status: OK CheckDir: simPIC.Rcheck Warnings: 0