Package: simPIC Version: 1.3.0 Command: rm -rf simPIC.buildbin-libdir && mkdir simPIC.buildbin-libdir && /Users/biocbuild/BBS/utils/build-universal.sh simPIC_1.3.0.tar.gz /Library/Frameworks/R.framework/Resources/bin/R simPIC.buildbin-libdir StartedAt: 2025-02-16 22:29:32 -0500 (Sun, 16 Feb 2025) EndedAt: 2025-02-16 22:29:43 -0500 (Sun, 16 Feb 2025) EllapsedTime: 11.2 seconds RetCode: 0 Status: OK PackageFile: simPIC_1.3.0.tgz PackageFileSize: 2.375 MiB