Package: sigsquared Version: 1.41.0 Command: chmod a+r sigsquared -R && F:\biocbuild\bbs-3.22-bioc\R\bin\R.exe CMD build --keep-empty-dirs --no-resave-data sigsquared StartedAt: 2025-08-14 23:18:26 -0400 (Thu, 14 Aug 2025) EndedAt: 2025-08-14 23:19:08 -0400 (Thu, 14 Aug 2025) EllapsedTime: 42.4 seconds RetCode: 0 Status: OK PackageFile: sigsquared_1.41.0.tar.gz PackageFileSize: 341.4 KiB