Package: sigsquared Version: 1.39.0 Command: /Library/Frameworks/R.framework/Resources/bin/R CMD INSTALL sigsquared StartedAt: 2025-01-31 15:19:24 -0500 (Fri, 31 Jan 2025) EndedAt: 2025-01-31 15:19:28 -0500 (Fri, 31 Jan 2025) EllapsedTime: 3.2 seconds RetCode: 0 Status: OK