Package: sigsquared Version: 1.39.0 Command: rm -rf sigsquared.buildbin-libdir && mkdir sigsquared.buildbin-libdir && /Users/biocbuild/BBS/utils/build-universal.sh sigsquared_1.39.0.tar.gz /Library/Frameworks/R.framework/Resources/bin/R sigsquared.buildbin-libdir StartedAt: 2025-01-31 22:32:59 -0500 (Fri, 31 Jan 2025) EndedAt: 2025-01-31 22:33:03 -0500 (Fri, 31 Jan 2025) EllapsedTime: 4.1 seconds RetCode: 0 Status: OK PackageFile: sigsquared_1.39.0.tgz PackageFileSize: 421.9 KiB