Package: signifinder Version: 1.11.0 Command: chmod a+r signifinder -R && F:\biocbuild\bbs-3.22-bioc\R\bin\R.exe CMD build --keep-empty-dirs --no-resave-data signifinder StartedAt: 2025-08-14 23:18:14 -0400 (Thu, 14 Aug 2025) EndedAt: 2025-08-14 23:22:01 -0400 (Thu, 14 Aug 2025) EllapsedTime: 226.7 seconds RetCode: 0 Status: OK PackageFile: signifinder_1.11.0.tar.gz PackageFileSize: 8.07 MiB