Package: signifinder Version: 1.11.0 Command: /Library/Frameworks/R.framework/Resources/bin/R CMD INSTALL signifinder StartedAt: 2025-05-09 15:32:39 -0400 (Fri, 09 May 2025) EndedAt: 2025-05-09 15:33:04 -0400 (Fri, 09 May 2025) EllapsedTime: 25.6 seconds RetCode: 0 Status: OK