Package: signeR Version: 2.11.1 Command: /home/biocbuild/bbs-3.22-bioc/R/bin/R CMD INSTALL signeR StartedAt: 2025-10-03 15:55:06 -0400 (Fri, 03 Oct 2025) EndedAt: 2025-10-03 15:56:30 -0400 (Fri, 03 Oct 2025) EllapsedTime: 84.1 seconds RetCode: 0 Status: OK