Package: signeR Version: 2.13.0 Command: /home/biocbuild/bbs-3.23-bioc/R/bin/R CMD INSTALL signeR StartedAt: 2025-11-18 16:45:53 -0500 (Tue, 18 Nov 2025) EndedAt: 2025-11-18 16:47:18 -0500 (Tue, 18 Nov 2025) EllapsedTime: 85.1 seconds RetCode: 0 Status: OK