Package: signeR Version: 2.11.1 Command: rm -rf signeR.buildbin-libdir && mkdir signeR.buildbin-libdir && /Users/biocbuild/BBS/utils/build-universal.sh signeR_2.11.1.tar.gz /Library/Frameworks/R.framework/Resources/bin/R signeR.buildbin-libdir StartedAt: 2025-10-04 02:30:19 -0400 (Sat, 04 Oct 2025) EndedAt: 2025-10-04 02:32:16 -0400 (Sat, 04 Oct 2025) EllapsedTime: 116.6 seconds RetCode: 0 Status: OK PackageFile: signeR_2.11.1.tgz PackageFileSize: 2.508 MiB