Package: signeR Version: 2.11.2 Command: /Library/Frameworks/R.framework/Resources/bin/R CMD INSTALL signeR StartedAt: 2025-10-26 15:28:40 -0400 (Sun, 26 Oct 2025) EndedAt: 2025-10-26 15:29:10 -0400 (Sun, 26 Oct 2025) EllapsedTime: 30.8 seconds RetCode: 0 Status: OK