Package: signeR Version: 2.11.2 Command: /Library/Frameworks/R.framework/Resources/bin/R CMD build --keep-empty-dirs --no-resave-data signeR StartedAt: 2025-10-26 18:00:41 -0400 (Sun, 26 Oct 2025) EndedAt: 2025-10-26 18:02:14 -0400 (Sun, 26 Oct 2025) EllapsedTime: 93.0 seconds RetCode: 0 Status: OK PackageFile: signeR_2.11.2.tar.gz PackageFileSize: 2.412 MiB