Package: signeR Version: 2.11.2 Command: rm -rf signeR.buildbin-libdir && mkdir signeR.buildbin-libdir && /Users/biocbuild/BBS/utils/build-universal.sh signeR_2.11.2.tar.gz /Library/Frameworks/R.framework/Resources/bin/R signeR.buildbin-libdir StartedAt: 2025-10-26 22:48:29 -0400 (Sun, 26 Oct 2025) EndedAt: 2025-10-26 22:49:00 -0400 (Sun, 26 Oct 2025) EllapsedTime: 31.6 seconds RetCode: 0 Status: OK PackageFile: signeR_2.11.2.tgz PackageFileSize: 2.501 MiB