Package: sights Version: 1.33.0 Command: /Library/Frameworks/R.framework/Resources/bin/R CMD INSTALL sights StartedAt: 2025-02-03 15:15:46 -0500 (Mon, 03 Feb 2025) EndedAt: 2025-02-03 15:15:54 -0500 (Mon, 03 Feb 2025) EllapsedTime: 8.5 seconds RetCode: 0 Status: OK